BEGIN:VCALENDAR
VERSION:2.0
PRODID:-//Eventin//Event Calendar//EN
CALSCALE:GREGORIAN
METHOD:PUBLISH
BEGIN:VEVENT
UID:6c8e1ed46b5f8a1941c1a391b89e11c6@wordlifechurch.marketingwithkelby.com
SUMMARY:9:00 A.M. Morning Service (In house &#038\; Online)
DESCRIPTION:Join us every Sunday morning at 9:00am
LOCATION:2440 E. Germann Rd. Suite 5 Chandler\, AZ 85286
DTSTAMP:20260420T082727Z
DTSTART:20260503T160000Z
DTEND:20260503T173000Z
END:VEVENT
END:VCALENDAR
