BEGIN:VCALENDAR
VERSION:2.0
PRODID:-//Eventin//Event Calendar//EN
CALSCALE:GREGORIAN
METHOD:PUBLISH
BEGIN:VEVENT
UID:c4d21b6e20e2846d1d24ccb20c508187@wordlifechurch.marketingwithkelby.com
SUMMARY:9:00 A.M. Morning Service (In house &#038\; Online)
DESCRIPTION:Join us every Sunday morning at 9:00am
LOCATION:2440 E. Germann Rd. Suite 5 Chandler\, AZ 85286
DTSTAMP:20260423T010503Z
DTSTART:20260517T160000Z
DTEND:20260517T173000Z
END:VEVENT
END:VCALENDAR
