BEGIN:VCALENDAR
VERSION:2.0
PRODID:-//Eventin//Event Calendar//EN
CALSCALE:GREGORIAN
METHOD:PUBLISH
BEGIN:VEVENT
UID:4ec2a15b4bf5d988f30de3a7c98380e1@wordlifechurch.marketingwithkelby.com
SUMMARY:9:00 A.M. Morning Service (In house &#038\; Online)
DESCRIPTION:Join us every Sunday morning at 9:00am
LOCATION:2440 E. Germann Rd. Suite 5 Chandler\, AZ 85286
DTSTAMP:20260423T010459Z
DTSTART:20260531T160000Z
DTEND:20260531T173000Z
END:VEVENT
END:VCALENDAR
