BEGIN:VCALENDAR
VERSION:2.0
PRODID:-//Eventin//Event Calendar//EN
CALSCALE:GREGORIAN
METHOD:PUBLISH
BEGIN:VEVENT
UID:37ed4efeb05c0e0ceae23e139e6323ec@wordlifechurch.marketingwithkelby.com
SUMMARY:9:00 A.M. Morning Service (In house &#038\; Online)
DESCRIPTION:Join us every Sunday morning at 9:00am
LOCATION:2440 E. Germann Rd. Suite 5 Chandler\, AZ 85286
DTSTAMP:20260422T221556Z
DTSTART:20261004T160000Z
DTEND:20261004T173000Z
END:VEVENT
END:VCALENDAR
