BEGIN:VCALENDAR
VERSION:2.0
PRODID:-//Eventin//Event Calendar//EN
CALSCALE:GREGORIAN
METHOD:PUBLISH
BEGIN:VEVENT
UID:08a3fa95582096fec567014089fbbc01@wordlifechurch.marketingwithkelby.com
SUMMARY:9:00 A.M. Morning Service (In house &#038\; Online)
DESCRIPTION:Join us every Sunday morning at 9:00am
LOCATION:2440 E. Germann Rd. Suite 5 Chandler\, AZ 85286
DTSTAMP:20260422T203843Z
DTSTART:20261025T160000Z
DTEND:20261025T173000Z
END:VEVENT
END:VCALENDAR
