BEGIN:VCALENDAR
VERSION:2.0
PRODID:-//Eventin//Event Calendar//EN
CALSCALE:GREGORIAN
METHOD:PUBLISH
BEGIN:VEVENT
UID:221fb41577832707223a1ee0133da816@wordlifechurch.marketingwithkelby.com
SUMMARY:11:00 A.M. Afternoon Service (In house Only)
DESCRIPTION:Join us every Sunday in person only at 11:00 AM
LOCATION:2440 E. Germann Rd. #5 Chandler\, AZ 85286
DTSTAMP:20260422T142440Z
DTSTART:20260531T180000Z
DTEND:20260531T193000Z
END:VEVENT
END:VCALENDAR
