BEGIN:VCALENDAR
VERSION:2.0
PRODID:-//Eventin//Event Calendar//EN
CALSCALE:GREGORIAN
METHOD:PUBLISH
BEGIN:VEVENT
UID:2c4e1d7c0a2ec274a727f85fd75646d5@wordlifechurch.marketingwithkelby.com
SUMMARY:11:00 A.M. Afternoon Service (In house Only)
DESCRIPTION:Join us every Sunday in person only at 11:00 AM
LOCATION:2440 E. Germann Rd. #5 Chandler\, AZ 85286
DTSTAMP:20260422T175641Z
DTSTART:20261011T180000Z
DTEND:20261011T193000Z
END:VEVENT
END:VCALENDAR
