BEGIN:VCALENDAR
VERSION:2.0
PRODID:-//Eventin//Event Calendar//EN
CALSCALE:GREGORIAN
METHOD:PUBLISH
BEGIN:VEVENT
UID:dafbb74b57c3ac89a8adcf9e7af0f8d5@wordlifechurch.marketingwithkelby.com
SUMMARY:11:00 A.M. Afternoon Service (In house Only)
DESCRIPTION:Join us every Sunday in person only at 11:00 AM
LOCATION:2440 E. Germann Rd. #5 Chandler\, AZ 85286
DTSTAMP:20260422T190149Z
DTSTART:20261122T180000Z
DTEND:20261122T193000Z
END:VEVENT
END:VCALENDAR
