BEGIN:VCALENDAR
VERSION:2.0
PRODID:-//Eventin//Event Calendar//EN
CALSCALE:GREGORIAN
METHOD:PUBLISH
BEGIN:VEVENT
UID:e7ecb5d9e01a062c3de454cb9bcd58bd@wordlifechurch.marketingwithkelby.com
SUMMARY:11:00 A.M. Afternoon Service (In house Only)
DESCRIPTION:Join us every Sunday in person only at 11:00 AM
LOCATION:2440 E. Germann Rd. #5 Chandler\, AZ 85286
DTSTAMP:20260422T190206Z
DTSTART:20261213T180000Z
DTEND:20261213T193000Z
END:VEVENT
END:VCALENDAR
