BEGIN:VCALENDAR
VERSION:2.0
PRODID:-//Eventin//Event Calendar//EN
CALSCALE:GREGORIAN
METHOD:PUBLISH
BEGIN:VEVENT
UID:1dfa018194473d889d791543feed691e@wordlifechurch.marketingwithkelby.com
SUMMARY:Women’s Bible Study (Online Only)
DESCRIPTION:Join us every Monday night at 6:30 PM for our weekly Women's bi
 ble study facilitated by Elmira Mills. This is an anointed and powerful co
 mmunity! We encourage you to join in and pray and study the Word along side
  us! \nThis bible study is held via zoom. Please follow the link below to 
 join. \nJoin Zoom Meeting by clicking here!\nMeeting ID: 820 4463 5784Pas
 scode: 201313Find your local number: https://us02web.zoom.us/u/key6WxyM81\n
  Click here to Join the zoom!
LOCATION:Online
DTSTAMP:20260420T083552Z
DTSTART:20260428T013000Z
DTEND:20260428T023000Z
END:VEVENT
END:VCALENDAR
