BEGIN:VCALENDAR
VERSION:2.0
PRODID:-//Eventin//Event Calendar//EN
CALSCALE:GREGORIAN
METHOD:PUBLISH
BEGIN:VEVENT
UID:3c449e2fb0bd21e591c5fd7fa5088cd6@wordlifechurch.marketingwithkelby.com
SUMMARY:Men Mentoring Men
DESCRIPTION:Men\, gather together for fellowship\, refining and learning. P
 roverbs 27:17
LOCATION:2440 E. Germann Rd. Suite 5 Chandler\, AZ 85286
DTSTAMP:20260420T082800Z
DTSTART:20260423T003000Z
DTEND:20260423T013000Z
END:VEVENT
END:VCALENDAR
