BEGIN:VCALENDAR
VERSION:2.0
PRODID:-//Eventin//Event Calendar//EN
CALSCALE:GREGORIAN
METHOD:PUBLISH
BEGIN:VEVENT
UID:664f9b4ec150d11bd2dd3782da2f9fb3@wordlifechurch.marketingwithkelby.com
SUMMARY:Men Mentoring Men
DESCRIPTION:Men\, gather together for fellowship\, refining and learning. P
 roverbs 27:17
LOCATION:2440 E. Germann Rd. Suite 5 Chandler\, AZ 85286
DTSTAMP:20260421T210408Z
DTSTART:20260611T003000Z
DTEND:20260611T013000Z
END:VEVENT
END:VCALENDAR
