BEGIN:VCALENDAR
VERSION:2.0
PRODID:-//Eventin//Event Calendar//EN
CALSCALE:GREGORIAN
METHOD:PUBLISH
BEGIN:VEVENT
UID:6f83e8a5101eec50793f0d9a57334841@wordlifechurch.marketingwithkelby.com
SUMMARY:Men Mentoring Men
DESCRIPTION:Men\, gather together for fellowship\, refining and learning. P
 roverbs 27:17
LOCATION:2440 E. Germann Rd. Suite 5 Chandler\, AZ 85286
DTSTAMP:20260421T192330Z
DTSTART:20260730T003000Z
DTEND:20260730T013000Z
END:VEVENT
END:VCALENDAR
