BEGIN:VCALENDAR
VERSION:2.0
PRODID:-//Eventin//Event Calendar//EN
CALSCALE:GREGORIAN
METHOD:PUBLISH
BEGIN:VEVENT
UID:027d161e5cb1523af3921318770a2a6e@wordlifechurch.marketingwithkelby.com
SUMMARY:Men Mentoring Men
DESCRIPTION:Men\, gather together for fellowship\, refining and learning. P
 roverbs 27:17
LOCATION:2440 E. Germann Rd. Suite 5 Chandler\, AZ 85286
DTSTAMP:20260421T174610Z
DTSTART:20261008T003000Z
DTEND:20261008T013000Z
END:VEVENT
END:VCALENDAR
