BEGIN:VCALENDAR
VERSION:2.0
PRODID:-//Eventin//Event Calendar//EN
CALSCALE:GREGORIAN
METHOD:PUBLISH
BEGIN:VEVENT
UID:d057b4bb49ef5fad08825477841583fc@wordlifechurch.marketingwithkelby.com
SUMMARY:Men Mentoring Men
DESCRIPTION:Men\, gather together for fellowship\, refining and learning. P
 roverbs 27:17
LOCATION:2440 E. Germann Rd. Suite 5 Chandler\, AZ 85286
DTSTAMP:20260421T174428Z
DTSTART:20261015T003000Z
DTEND:20261015T013000Z
END:VEVENT
END:VCALENDAR
