BEGIN:VCALENDAR
VERSION:2.0
PRODID:-//Eventin//Event Calendar//EN
CALSCALE:GREGORIAN
METHOD:PUBLISH
BEGIN:VEVENT
UID:841f66ceff54e4a6c0d2ddf103f865eb@wordlifechurch.marketingwithkelby.com
SUMMARY:Corporate Prayer
DESCRIPTION: Join us this Wednesday at 7:00pm for our corporate prayer. It
 's going to be an amazing time as we come together and hear from our Father
 .  
LOCATION:2440 E. Germann Rd. Suite 5 Chandler\, AZ 85286
DTSTAMP:20260420T084038Z
DTSTART:20260423T020000Z
DTEND:20260423T030000Z
END:VEVENT
END:VCALENDAR
