BEGIN:VCALENDAR
VERSION:2.0
PRODID:-//Eventin//Event Calendar//EN
CALSCALE:GREGORIAN
METHOD:PUBLISH
BEGIN:VEVENT
UID:78917a05c87722feb212a8355b1b00ec@wordlifechurch.marketingwithkelby.com
SUMMARY:Corporate Prayer
DESCRIPTION: Join us this Wednesday at 7:00pm for our corporate prayer. It
 's going to be an amazing time as we come together and hear from our Father
 .  
LOCATION:2440 E. Germann Rd. Suite 5 Chandler\, AZ 85286
DTSTAMP:20260421T114611Z
DTSTART:20260604T020000Z
DTEND:20260604T030000Z
END:VEVENT
END:VCALENDAR
