BEGIN:VCALENDAR
VERSION:2.0
PRODID:-//Eventin//Event Calendar//EN
CALSCALE:GREGORIAN
METHOD:PUBLISH
BEGIN:VEVENT
UID:3c97e2f45915179f3974dedfbf7044c1@wordlifechurch.marketingwithkelby.com
SUMMARY:Corporate Prayer
DESCRIPTION: Join us this Wednesday at 7:00pm for our corporate prayer. It
 's going to be an amazing time as we come together and hear from our Father
 .  
LOCATION:2440 E. Germann Rd. Suite 5 Chandler\, AZ 85286
DTSTAMP:20260421T114731Z
DTSTART:20260611T020000Z
DTEND:20260611T030000Z
END:VEVENT
END:VCALENDAR
