BEGIN:VCALENDAR
VERSION:2.0
PRODID:-//Eventin//Event Calendar//EN
CALSCALE:GREGORIAN
METHOD:PUBLISH
BEGIN:VEVENT
UID:03096e8a0e3df841995a4513a803fec7@wordlifechurch.marketingwithkelby.com
SUMMARY:Corporate Prayer
DESCRIPTION: Join us this Wednesday at 7:00pm for our corporate prayer. It
 's going to be an amazing time as we come together and hear from our Father
 .  
LOCATION:2440 E. Germann Rd. Suite 5 Chandler\, AZ 85286
DTSTAMP:20260421T091906Z
DTSTART:20261112T020000Z
DTEND:20261112T030000Z
END:VEVENT
END:VCALENDAR
